BEGIN:VCALENDAR
VERSION:2.0
PRODID:-//wp-events-plugin.com//7.0.5//EN
BEGIN:VEVENT
UID:60@glarts.org
DTSTART:20260527T090000Z
DTEND:20260527T130000Z
DTSTAMP:20260424T214847Z
URL:https://glarts.org/events/may-arts-clinic-virtual-2/
SUMMARY:May Arts Clinic (Virtual)
DESCRIPTION:Our May Arts Clinic with attorneys from the law firm of Finnega
 n  will take place on May 27\, 2026\, from 1:00pm - 5:00 pm. The Clinic w
 ill give members 30 minutes to speak with an attorney to discuss copyright
 \, trademark and simple contract questions. You must be a member of Georgi
 a Lawyers for the Arts and make an appointment in advance to attend the Cl
 inic. To make an appointment\, email us at cases@glarts.org by May 6\, 
  2026 and put May Clinic Appointment in the Re: line.
ATTACH;FMTTYPE=image/jpeg:https://glarts.org/wp-content/uploads/2018/04/br
 ush-2927793_960_720.jpg
CATEGORIES:Clinic
END:VEVENT
END:VCALENDAR